Workbook

Sheet Planilha Orçamentária
B1: MINISTÉRIO DA EDUCAÇÃO
B5: Obra: Construção de Ginásio Poliesportivo da Escola Municipal Bruno Fonseca Pinto, no Campo Redondo Campo Redondo
B6: Data de Preço: SETOP agosto/2023 com desoneração; SINAPI novembro/2023
B7: Município: | D7: Itamonte/MG
B8: Planilha Orçamentária | J8: 0.25
B10: Lote 01
B11: ITEM | C11: CÓDIGO | D11: FONTE | E11: DESCRIÇÃO DOS SERVIÇOS | F11: UN. | G11: QUANT. | H11: CUSTO (R$) | I11: PREÇO (R$) | J11: VALOR (R$)
B12: 1 | E12: SERVIÇOS PRELIMINARES
B13: 1.1 | C13: ED-28427 | D13: SETOP | E13: FORNECIMENTO E COLOCAÇÃO DE PLACA DE OBRA EM CHAPA GALVANIZADA #26, ESP. 0,45MM, DIMENSÃO (3X1,5)M, PLOTADA COM ADESIVO VINÍLICO, AFIXADA COM REBITES 4,8X40MM, EM ESTRUTURA METÁLICA DE METALON 20X20MM, ESP. 1,25MM, INCLUSIVE SUPORTE EM EUCALIPTO AUTOCLAVADO PINTADO COM TINTA PVA DUAS (2) DEMÃOS | F13: UN | G13: 1 | H13: 1367.14 | I13: =H13*(1+$J$8) -> 1708.925 | J13: =G13*I13 -> 1708.925
B14: 1.2 | C14: ED-29823 | D14: SETOP | E14: TAPUME FIXO DE PROTEÇÃO PARA FECHAMENTO DE OBRA EM TELHA METÁLICA GALVANIZADA, TIPO TRAPEZOIDAL, ESP. 0,5MM, COM MÓDULO NA DIMENSÃO DE (300X220)CM, COM REAPROVEITAMENTO, EXCLUSIVE PINTURA ESMALTE, INCLUSIVE PONTALETE E FIXAÇÃO | F14: M2 | G14: 980 | H14: 57.5 | I14: =H14*(1+$J$8) -> 71.875 | J14: =G14*I14 -> 70437.5
B15: 1.3 | C15: ED-50128 | D15: SETOP | E15: BARRACÃO DE OBRA PARA DEPÓSITO E FERRAMENTARIA TIPO-I, ÁREA INTERNA 14,52M2, EM CHAPA DE COMPENSADO RESINADO, INCLUSIVE MOBILIÁRIO (OBRA DE PEQUENO PORTE, EFETIVO ATÉ 30 HOMENS), PADRÃO DER-MG | F15: UN | G15: 1 | H15: 7385.19 | I15: =H15*(1+$J$8) -> 9231.4875 | J15: =G15*I15 -> 9231.4875
B16: 1.4 | C16: ED-17989 | D16: SETOP | E16: LOCAÇÃO DE OBRA COM GABARITO DE TÁBUAS CORRIDAS PONTALETADAS A CADA 2,00M, REAPROVEITAMENTO (2X), INCLUSIVE ACOMPANHAMENTO DE EQUIPE TOPOGRÁFICA PARA MARCAÇÃO DE PONTO TOPOGRÁFICO | F16: M | G16: 126.6 | H16: 49.91 | I16: =H16*(1+$J$8) -> 62.3875 | J16: =G16*I16 -> 7898.2575
E17: Subtotal | J17: =SUM(J13:J16) -> 89276.17
B18: 2 | E18: MOVIMENTO DE TERRA PARA FUNDAÇÕES
B19: 2.1 | C19: ED-51122 | D19: SETOP | E19: REGULARIZAÇÃO E COMPACTAÇÃO DE TERRENO MANUAL COM SOQUETE, EXCLUSIVE DESMATAMENTO, DESTOCAMENTO, LIMPEZA/ROÇADA DO TERRENO (entre baldrames) | F19: M3 | G19: 154.94 | H19: 8.72 | I19: =H19*(1+$J$8) -> 10.9 | J19: =G19*I19 -> 1688.846
B20: 2.2 | C20: ED-51107 | D20: SETOP | E20: ESCAVAÇÃO MANUAL DE VALA COM PROFUNDIDADE MENOR OU IGUAL A 1,5M, INCLUSIVE DESCARGA LATERAL | F20: M3 | G20: 83.25 | H20: 60.61 | I20: =H20*(1+$J$8) -> 75.7625 | J20: =G20*I20 -> 6307.2281
B21: 2.3 | C21: ED-51093 | D21: SETOP | E21: APILOAMENTO MANUAL EM FUNDO DE VALA COM SOQUETE, EXCLUSIVE ESCAVAÇÃO | F21: M2 | G21: 114.83 | H21: 20.43 | I21: =H21*(1+$J$8) -> 25.5375 | J21: =G21*I21 -> 2932.4711
B22: 2.4 | C22: ED-51120 | D22: SETOP | E22: REATERRO MANUAL DE VALA, INCLUSIVE ESPALHAMENTO E COMPACTAÇÃO MANUAL COM SOQUETE | F22: M3 | G22: 62.89 | H22: 60.61 | I22: =H22*(1+$J$8) -> 75.7625 | J22: =G22*I22 -> 4764.7036
E23: Subtotal | J23: =SUM(J19:J22) -> 15693.249
B24: 3 | E24: FUNDAÇÕES
B25: 3.1 | E25: CONCRETO ARMADO - SAPATAS
B26: 3.1.1 | C26: ED-49812 | D26: SETOP | E26: LASTRO DE CONCRETO MAGRO, INCLUSIVE TRANSPORTE, LANÇAMENTO E ADENSAMENTO, espessura 5cm | F26: M3 | G26: 3.77 | H26: 520.22 | I26: =H26*(1+$J$8) -> 650.275 | J26: =G26*I26 -> 2451.5368
B27: 3.1.2 | C27: ED-31575 | D27: SETOP | E27: FÔRMA E DESFORMA PARA VIGA DE MADEIRA COM TÁBUA E SARRAFO, REAPROVEITAMENTO (3X), EXCLUSIVE ESCORAMENTO | F27: M2 | G27: 63.02 | H27: 59.76 | I27: =H27*(1+$J$8) -> 74.7 | J27: =G27*I27 -> 4707.594
B28: 3.1.3 | C28: ED-48295 | D28: SETOP | E28: CORTE, DOBRA E MONTAGEM DE AÇO CA-50, DIÂMETRO (6,3MM A 12,5MM), INCLUSIVE ESPAÇADOR | F28: KG | G28: 1094.27 | H28: 11.64 | I28: =H28*(1+$J$8) -> 14.55 | J28: =G28*I28 -> 15921.629
B29: 3.1.4 | C29: ED-48297 | D29: SETOP | E29: CORTE, DOBRA E MONTAGEM DE AÇO CA-60, DIÂMETRO (4,2MM A 5,0MM), INCLUSIVE ESPAÇADOR | F29: KG | G29: 54.91 | H29: 11.58 | I29: =H29*(1+$J$8) -> 14.475 | J29: =G29*I29 -> 794.82225
B30: 3.1.5 | C30: ED-49638 | D30: SETOP | E30: FORNECIMENTO DE CONCRETO ESTRUTURAL, USINADO BOMBEADO, COM FCK 25MPA, INCLUSIVE LANÇAMENTO, ADENSAMENTO E ACABAMENTO | F30: M3 | G30: 15.63 | H30: 704.36 | I30: =H30*(1+$J$8) -> 880.45 | J30: =G30*I30 -> 13761.434
B31: 3.2 | E31: CONCRETO ARMADO - VIGAS BALDRAMES
B32: 3.2.1 | C32: ED-49812 | D32: SETOP | E32: LASTRO DE CONCRETO MAGRO, INCLUSIVE TRANSPORTE, LANÇAMENTO E ADENSAMENTO, espessura 5cm | F32: M3 | G32: 2.58 | H32: 520.22 | I32: =H32*(1+$J$8) -> 650.275 | J32: =G32*I32 -> 1677.7095
B33: 3.2.2 | C33: ED-31575 | D33: SETOP | E33: FÔRMA E DESFORMA PARA VIGA DE MADEIRA COM TÁBUA E SARRAFO, REAPROVEITAMENTO (3X), EXCLUSIVE ESCORAMENTO | F33: M2 | G33: 139.57 | H33: 67.8 | I33: =H33*(1+$J$8) -> 84.75 | J33: =G33*I33 -> 11828.557
B34: 3.2.3 | C34: ED-48295 | D34: SETOP | E34: CORTE, DOBRA E MONTAGEM DE AÇO CA-50, DIÂMETRO (6,3MM A 12,5MM), INCLUSIVE ESPAÇADOR | F34: KG | G34: 389.64 | H34: 11.64 | I34: =H34*(1+$J$8) -> 14.55 | J34: =G34*I34 -> 5669.262
B35: 3.2.4 | C35: ED-48297 | D35: SETOP | E35: CORTE, DOBRA E MONTAGEM DE AÇO CA-60, DIÂMETRO (4,2MM A 5,0MM), INCLUSIVE ESPAÇADOR | F35: KG | G35: 137.73 | H35: 11.58 | I35: =H35*(1+$J$8) -> 14.475 | J35: =G35*I35 -> 1993.6417
B36: 3.2.5 | C36: ED-49638 | D36: SETOP | E36: FORNECIMENTO DE CONCRETO ESTRUTURAL, USINADO BOMBEADO, COM FCK 25MPA, INCLUSIVE LANÇAMENTO, ADENSAMENTO E ACABAMENTO | F36: M3 | G36: 10.05 | H36: 704.36 | I36: =H36*(1+$J$8) -> 880.45 | J36: =G36*I36 -> 8848.5225
E37: Subtotal | J37: =SUM(J26:J36) -> 67654.708
B38: 4 | E38: SUPERESTRUTURA
B39: 4.1 | E39: CONCRETO ARMADO - VIGAS
B40: 4.1.1 | C40: ED-31575 | D40: SETOP | E40: FÔRMA E DESFORMA PARA VIGA DE MADEIRA COM TÁBUA E SARRAFO, REAPROVEITAMENTO (3X), EXCLUSIVE ESCORAMENTO | F40: M2 | G40: 126.72 | H40: 59.76 | I40: =H40*(1+$J$8) -> 74.7 | J40: =G40*I40 -> 9465.984
B41: 4.1.2 | C41: ED-48295 | D41: SETOP | E41: CORTE, DOBRA E MONTAGEM DE AÇO CA-50, DIÂMETRO (6,3MM A 12,5MM), INCLUSIVE ESPAÇADOR | F41: KG | G41: 428.55 | H41: 11.64 | I41: =H41*(1+$J$8) -> 14.55 | J41: =G41*I41 -> 6235.4025
B42: 4.1.3 | C42: ED-48297 | D42: SETOP | E42: CORTE, DOBRA E MONTAGEM DE AÇO CA-60, DIÂMETRO (4,2MM A 5,0MM), INCLUSIVE ESPAÇADOR | F42: KG | G42: 127.36 | H42: 11.58 | I42: =H42*(1+$J$8) -> 14.475 | J42: =G42*I42 -> 1843.536
B43: 4.1.4 | C43: ED-49638 | D43: SETOP | E43: FORNECIMENTO DE CONCRETO ESTRUTURAL, USINADO BOMBEADO, COM FCK 25MPA, INCLUSIVE LANÇAMENTO, ADENSAMENTO E ACABAMENTO | F43: M3 | G43: 8.52 | H43: 704.36 | I43: =H43*(1+$J$8) -> 880.45 | J43: =G43*I43 -> 7501.434
B44: 4.2 | E44: CONCRETO ARMADO - LAJES E PILARES
...

Sheet Cronograma
B1: Ministério da Educação
B4: ='Planilha Orçamentária'!B5 -> Obra: Construção de Ginásio Poliesportivo da Escola Municipal Bruno Fonseca Pinto, no Campo Redondo Campo Redondo
B5: ='Planilha Orçamentária'!B7 -> Município: | C5: ='Planilha Orçamentária'!D7 -> Itamonte/MG
B6: Endereço: | C6: Campo Redondo
B8: PLANEJAMENTO
B10: ITEM | C10: DESCRIÇÃO DOS SERVIÇOS | D10: VALOR (R$) | E10: % ITEM | F10: 1 | G10: 2 | H10: 3 | I10: 4 | J10: 5 | K10: 6 | L10: 7 | M10: 8 | N10: 9 | O10: 10 | P10: 11
C11: ='Planilha Orçamentária'!B10 -> Lote 01
B12: ='Planilha Orçamentária'!B12 -> 1 | C12: ='Planilha Orçamentária'!E12 -> SERVIÇOS PRELIMINARES | D12: ='Planilha Orçamentária'!J17 -> 89276.17 | E12: =D12/$D$44 -> 0.074314186 | F12: 1
F13: =$D$12*F12 -> 89276.17 | G13: =$D$12*G12 -> 0 | H13: =$D$12*H12 -> 0 | I13: =$D$12*I12 -> 0 | J13: =$D$12*J12 -> 0 | K13: =$D$12*K12 -> 0 | L13: =$D$12*L12 -> 0 | M13: =$D$12*M12 -> 0 | ... P13: =$D$12*P12 -> 0
B14: ='Planilha Orçamentária'!B18 -> 2 | C14: ='Planilha Orçamentária'!E18 -> MOVIMENTO DE TERRA PARA FUNDAÇÕES | D14: ='Planilha Orçamentária'!J23 -> 15693.249 | E14: =D14/$D$44 -> 0.013063184 | F14: 1
F15: =$D14*F14 -> 15693.249 | G15: =$D14*G14 -> 0 | H15: =$D14*H14 -> 0 | I15: =$D14*I14 -> 0 | J15: =$D14*J14 -> 0 | K15: =$D14*K14 -> 0 | L15: =$D14*L14 -> 0 | M15: =$D14*M14 -> 0 | ... P15: =$D14*P14 -> 0
B16: ='Planilha Orçamentária'!B24 -> 3 | C16: ='Planilha Orçamentária'!E24 -> FUNDAÇÕES | D16: ='Planilha Orçamentária'!J37 -> 67654.708 | E16: =D16/$D$44 -> 0.056316311 | F16: 0.3 | G16: 0.3 | H16: 0.4
F17: =$D16*F16 -> 20296.412 | G17: =$D16*G16 -> 20296.412 | H17: =$D16*H16 -> 27061.883 | I17: =$D16*I16 -> 0 | J17: =$D16*J16 -> 0 | K17: =$D16*K16 -> 0 | L17: =$D16*L16 -> 0 | M17: =$D16*M16 -> 0 | ... P17: =$D16*P16 -> 0
B18: ='Planilha Orçamentária'!B38 -> 4 | C18: ='Planilha Orçamentária'!E38 -> SUPERESTRUTURA | D18: ='Planilha Orçamentária'!J57 -> 111344.26 | E18: =D18/$D$44 -> 0.092683834 | G18: 0.35 | H18: 0.35 | I18: 0.3
F19: =$D18*F18 -> 0 | G19: =$D18*G18 -> 38970.49 | H19: =$D18*H18 -> 38970.49 | I19: =$D18*I18 -> 33403.277 | J19: =$D18*J18 -> 0 | K19: =$D18*K18 -> 0 | L19: =$D18*L18 -> 0 | M19: =$D18*M18 -> 0 | ... P19: =$D18*P18 -> 0
B20: ='Planilha Orçamentária'!B58 -> 5 | C20: ='Planilha Orçamentária'!E58 -> SISTEMAS DE VEDAÇÃO VERTICAL | D20: ='Planilha Orçamentária'!J65 -> 56720.174 | E20: =D20/$D$44 -> 0.047214319 | G20: 0.2 | H20: 0.2 | I20: 0.3 | J20: 0.3
F21: =$D20*F20 -> 0 | G21: =$D20*G20 -> 11344.035 | H21: =$D20*H20 -> 11344.035 | I21: =$D20*I20 -> 17016.052 | J21: =$D20*J20 -> 17016.052 | K21: =$D20*K20 -> 0 | L21: =$D20*L20 -> 0 | M21: =$D20*M20 -> 0 | ... P21: =$D20*P20 -> 0
B22: ='Planilha Orçamentária'!B66 -> 6 | C22: ='Planilha Orçamentária'!E66 -> ESQUADRIAS | D22: ='Planilha Orçamentária'!J75 -> 20644.385 | E22: =D22/$D$44 -> 0.017184548 | L22: 0.5 | M22: 0.5
F23: =$D22*F22 -> 0 | G23: =$D22*G22 -> 0 | H23: =$D22*H22 -> 0 | I23: =$D22*I22 -> 0 | J23: =$D22*J22 -> 0 | K23: =$D22*K22 -> 0 | L23: =$D22*L22 -> 10322.192 | M23: =$D22*M22 -> 10322.192 | ... P23: =$D22*P22 -> 0
B24: ='Planilha Orçamentária'!B76 -> 7 | C24: ='Planilha Orçamentária'!E76 -> REVESTIMENTOS INTERNO E EXTERNO | D24: ='Planilha Orçamentária'!J84 -> 85663.96 | E24: =D24/$D$44 -> 0.071307354 | H24: 0.2 | I24: 0.2 | J24: 0.2 | K24: 0.2 | L24: 0.2
F25: =$D24*F24 -> 0 | G25: =$D24*G24 -> 0 | H25: =$D24*H24 -> 17132.792 | I25: =$D24*I24 -> 17132.792 | J25: =$D24*J24 -> 17132.792 | K25: =$D24*K24 -> 17132.792 | L25: =$D24*L24 -> 17132.792 | M25: =$D24*M24 -> 0 | ... P25: =$D24*P24 -> 0
B26: ='Planilha Orçamentária'!B85 -> 8 | C26: ='Planilha Orçamentária'!E85 -> SISTEMAS DE PISOS | D26: ='Planilha Orçamentária'!J100 -> 141050.8 | E26: =D26/$D$44 -> 0.1174118 | I26: 1
F27: =$D26*F26 -> 0 | G27: =$D26*G26 -> 0 | H27: =$D26*H26 -> 0 | I27: =$D26*I26 -> 141050.8 | J27: =$D26*J26 -> 0 | K27: =$D26*K26 -> 0 | L27: =$D26*L26 -> 0 | M27: =$D26*M26 -> 0 | ... P27: =$D26*P26 -> 0
B28: ='Planilha Orçamentária'!B101 -> 9 | C28: ='Planilha Orçamentária'!E101 -> PINTURAS E ACABAMENTOS | D28: ='Planilha Orçamentária'!J108 -> 51163.121 | E28: =D28/$D$44 -> 0.042588584 | M28: 0.5 | N28: 0.5
F29: =$D28*F28 -> 0 | G29: =$D28*G28 -> 0 | H29: =$D28*H28 -> 0 | I29: =$D28*I28 -> 0 | J29: =$D28*J28 -> 0 | K29: =$D28*K28 -> 0 | L29: =$D28*L28 -> 0 | M29: =$D28*M28 -> 25581.561 | ... P29: =$D28*P28 -> 0
B30: ='Planilha Orçamentária'!B109 -> 10 | C30: ='Planilha Orçamentária'!E109 -> INSTALAÇÃO HIDRÁULICA | D30: ='Planilha Orçamentária'!J130 -> 13187.125 | E30: =D30/$D$44 -> 0.010977067 | G30: 0.2 | J30: 0.3 | K30: 0.5
F31: =$D30*F30 -> 0 | G31: =$D30*G30 -> 2637.425 | H31: =$D30*H30 -> 0 | I31: =$D30*I30 -> 0 | J31: =$D30*J30 -> 3956.1375 | K31: =$D30*K30 -> 6593.5625 | L31: =$D30*L30 -> 0 | M31: =$D30*M30 -> 0 | ... P31: =$D30*P30 -> 0
B32: ='Planilha Orçamentária'!B131 -> 11 | C32: ='Planilha Orçamentária'!E131 -> INSTALAÇÃO SANITÁRIA | D32: ='Planilha Orçamentária'!J143 -> 10320.013 | E32: =D32/$D$44 -> 0.0085904595 | G32: 0.2 | J32: 0.3 | K32: 0.5
F33: =$D32*F32 -> 0 | G33: =$D32*G32 -> 2064.0025 | H33: =$D32*H32 -> 0 | I33: =$D32*I32 -> 0 | J33: =$D32*J32 -> 3096.0038 | K33: =$D32*K32 -> 5160.0063 | L33: =$D32*L32 -> 0 | M33: =$D32*M32 -> 0 | ... P33: =$D32*P32 -> 0
B34: ='Planilha Orçamentária'!B144 -> 12 | C34: ='Planilha Orçamentária'!E144 -> LOUÇAS, ACESSÓRIOS E METAIS | D34: ='Planilha Orçamentária'!J150 -> 6624.425 | E34: =D34/$D$44 -> 0.0055142235 | L34: 0.5 | M34: 0.5
F35: =$D34*F34 -> 0 | G35: =$D34*G34 -> 0 | H35: =$D34*H34 -> 0 | I35: =$D34*I34 -> 0 | J35: =$D34*J34 -> 0 | K35: =$D34*K34 -> 0 | L35: =$D34*L34 -> 3312.2125 | M35: =$D34*M34 -> 3312.2125 | ... P35: =$D34*P34 -> 0
B36: ='Planilha Orçamentária'!B151 -> 13 | C36: ='Planilha Orçamentária'!E151 -> INSTALAÇÃO ELÉTRICA - 110V | D36: ='Planilha Orçamentária'!J183 -> 27880.288 | E36: =D36/$D$44 -> 0.023207771 | H36: 0.2 | I36: 0.3 | J36: 0.2 | K36: 0.3
F37: =$D36*F36 -> 0 | G37: =$D36*G36 -> 0 | H37: =$D36*H36 -> 5576.0575 | I37: =$D36*I36 -> 8364.0863 | J37: =$D36*J36 -> 5576.0575 | K37: =$D36*K36 -> 8364.0863 | L37: =$D36*L36 -> 0 | M37: =$D36*M36 -> 0 | ... P37: =$D36*P36 -> 0
B38: ='Planilha Orçamentária'!B184 -> 14 | C38: ='Planilha Orçamentária'!E184 -> SERVIÇOS COMPLEMENTARES | D38: ='Planilha Orçamentária'!J192 -> 51355.312 | E38: =D38/$D$44 -> 0.042748566 | L38: 0.5 | M38: 0.5
F39: =$D38*F38 -> 0 | G39: =$D38*G38 -> 0 | H39: =$D38*H38 -> 0 | I39: =$D38*I38 -> 0 | J39: =$D38*J38 -> 0 | K39: =$D38*K38 -> 0 | L39: =$D38*L38 -> 25677.656 | M39: =$D38*M38 -> 25677.656 | ... P39: =$D38*P38 -> 0
C40: ='Planilha Orçamentária'!B195 -> Lote 02
B41: ='Planilha Orçamentária'!B197 -> 1 | C41: ='Planilha Orçamentária'!E197 -> SISTEMAS DE COBERTURA | D41: ='Planilha Orçamentária'!J201 -> 452756.18 | E41: =D41/$D$44 -> 0.3768778 | I41: 0.2 | J41: 0.5 | K41: 0.3
F42: =$D41*F41 -> 0 | G42: =$D41*G41 -> 0 | H42: =$D41*H41 -> 0 | I42: =$D41*I41 -> 90551.236 | J42: =$D41*J41 -> 226378.09 | K42: =$D41*K41 -> 135826.85 | L42: =$D41*L41 -> 0 | M42: =$D41*M41 -> 0 | ... P42: =$D41*P41 -> 0
B44: Valores totais | D44: =ROUNDDOWN(D12+D14+D16+D18+D20+D22+D24+D26+D28+D30+D32+D34+D36+D38+D41,2) -> 1201334.2 | E44: =SUM(E11:E42) -> 1 | F44: =F13+F15+F17+F19+F25+F27+F42+F21+F23+F29+F31+F33+F35+F37+F39 -> 125265.83 | G44: =G13+G15+G17+G19+G25+G27+G42+G21+G23+G29+G31+G33+G35+G37+G39 -> 75312.364 | H44: =H13+H15+H17+H19+H25+H27+H42+H21+H23+H29+H31+H33+H35+H37+H39 -> 100085.26 | I44: =I13+I15+I17+I19+I25+I27+I42+I21+I23+I29+I31+I33+I35+I37+I39 -> 307518.24 | J44: =J13+J15+J17+J19+J25+J27+J42+J21+J23+J29+J31+J33+J35+J37+J39 -> 273155.13 | K44: =K13+K15+K17+K19+K25+K27+K42+K21+K23+K29+K31+K33+K35+K37+K39 -> 173077.3 | L44: =L13+L15+L17+L19+L25+L27+L42+L21+L23+L29+L31+L33+L35+L37+L39 -> 56444.853 | M44: =M13+M15+M17+M19+M25+M27+M42+M21+M23+M29+M31+M33+M35+M37+M39 -> 64893.622 | ... P44: =P13+P15+P17+P19+P25+P27+P42+P21+P23+P29+P31+P33+P35+P37+P39 -> 0
F45: =F44/$D$44 -> 0.10427226 | G45: =G44/$D$44 -> 0.062690604 | H45: =H44/$D$44 -> 0.083311755 | I45: =I44/$D$44 -> 0.2559806 | J45: =J44/$D$44 -> 0.22737648 | K45: =K44/$D$44 -> 0.14407091 | L45: =L44/$D$44 -> 0.04698514 | M45: =M44/$D$44 -> 0.054017961 | ... P45: =P44/$D$44 -> 0
...
