Workbook

Sheet Planilha Orçamentária
E2: PLANILHA ORÇAMENTÁRIA
B6: OBRA: REFORMA DA PRAÇA PE. FRANCISCO MIRA - ETAPA 04 | H6: REF. SINAPI OUTUBRO DE 2023 C/ DESONERAÇÃO
B7: ENDEREÇO: CENTRO, ITAMONTE/MG
B8: ENG. CIVIL RESPONSÁVEL: TIBÉRIO MOTA FLEMING | H8: BDI: | I8: 0.25
B9: ITEM | C9: CÓDIGO | D9: REF. | E9: DISCRIMINAÇÃO | F9: UND. | G9: QUANT. | H9: PREÇO UNIT. | I9: PREÇO C/ BDI | J9: TOTAL
B10: 1 | E10: SUBSOLO BISTRÔ
B11: 1.1 | C11: 87265 | D11: SINAPI | E11: REVESTIMENTO CERÂMICO PARA PAREDES INTERNAS COM PLACAS TIPO ESMALTADA EXTRA DE DIMENSÕES 20X20 CM APLICADAS NA ALTURA INTEIRA DAS PAREDES. AF_02/2023_PE | F11: M2 | G11: =(4.25+7.43+4.25+7.43)*3 -> 70.08 | H11: 55.2 | I11: =ROUND((H11*$I$8)+H11,2) -> 69 | J11: =ROUND(G11*I11,2) -> 4835.52
B12: 1.2 | C12: 88488 | D12: SINAPI | E12: PINTURA LÁTEX ACRÍLICA PREMIUM, APLICAÇÃO MANUAL EM TETO, DUAS DEMÃOS. AF_04/2023 | F12: M2 | G12: 31.87 | H12: 13.06 | I12: =ROUND((H12*$I$8)+H12,2) -> 16.33 | J12: =ROUND(G12*I12,2) -> 520.44
B13: 1.3 | C13: 92687 | D13: SINAPI | E13: TUBO DE AÇO GALVANIZADO COM COSTURA, CLASSE MÉDIA, CONEXÃO ROSQUEADA, DN 15 (1/2"), INSTALADO EM RAMAIS E SUB-RAMAIS DE GÁS - FORNECIMENTO E INSTALAÇÃO. AF_10/2020 | F13: UN. | G13: 10 | H13: 28.66 | I13: =ROUND((H13*$I$8)+H13,2) -> 35.83 | J13: =ROUND(G13*I13,2) -> 358.3
B14: 1.4 | C14: 89714 | D14: SINAPI | E14: TUBO PVC, SERIE NORMAL, ESGOTO PREDIAL, DN 100 MM, FORNECIDO E INSTALADO EM RAMAL DE DESCARGA OU RAMAL DE ESGOTO SANITÁRIO. AF_08/2022 | F14: M | G14: 3.5 | H14: 35.71 | I14: =ROUND((H14*$I$8)+H14,2) -> 44.64 | J14: =ROUND(G14*I14,2) -> 156.24
B15: 1.5 | C15: 89356 | D15: SINAPI | E15: TUBO, PVC, SOLDÁVEL, DN 25MM, INSTALADO EM RAMAL OU SUB-RAMAL DE ÁGUA - FORNECIMENTO E INSTALAÇÃO. AF_06/2022 | F15: M | G15: 9.43 | H15: 20.97 | I15: =ROUND((H15*$I$8)+H15,2) -> 26.21 | J15: =ROUND(G15*I15,2) -> 247.16
B16: 1.6 | C16: 91945 | D16: SINAPI | E16: SUPORTE PARAFUSADO COM PLACA DE ENCAIXE 4" X 2" ALTO (2,00 M DO PISO) PARA PONTO ELÉTRICO - FORNECIMENTO E INSTALAÇÃO. AF_03/2023 | F16: PT | G16: 35 | H16: 12.64 | I16: =ROUND((H16*$I$8)+H16,2) -> 15.8 | J16: =ROUND(G16*I16,2) -> 553
B17: 1.7 | C17: 39500 | D17: SINAPI | E17: KIT PORTA PRONTA DE MADEIRA, FOLHA PESADA (NBR 15930) DE 800 X 2100 MM, DE 40 MM A 45 MM DE ESPESSURA, NUCLEO SOLIDO, CAPA LISA EM HDF, ACABAMENTO MELAMINICO BRANCO (INCLUI MARCO, ALIZARES, DOBRADICAS E FECHADURA EXTERNA) | F17: UN. | G17: 1 | H17: 847.2 | I17: =ROUND((H17*$I$8)+H17,2) -> 1059 | J17: =ROUND(G17*I17,2) -> 1059
B18: 1.8 | C18: 102362 | D18: SINAPI | E18: ALAMBRADO PARA QUADRA POLIESPORTIVA, ESTRUTURADO POR TUBOS DE ACO GALVANIZADO, (MONTANTES COM DIAMETRO 2", TRAVESSAS E ESCORAS COM DIÂMETRO 1 ¼), COM TELA DE ARAME GALVANIZADO, FIO 14 BWG E MALHA QUADRADA 5X5CM (EXCETO MURETA). (portão abrigo de gás) | F18: M2 | G18: 4 | H18: 159.93 | I18: =ROUND((H18*$I$8)+H18,2) -> 199.91 | J18: =ROUND(G18*I18,2) -> 799.64
J19: =SUM(J11:J18) -> 8529.3
B20: 2 | E20: TÉRREO BISTRÔ
B21: 2.1 | C21: 88489 | D21: SINAPI | E21: PINTURA LÁTEX ACRÍLICA PREMIUM, APLICAÇÃO MANUAL EM PAREDES, DUAS DEMÃOS. | F21: M2 | G21: 61.26 | H21: 11.04 | I21: =ROUND((H21*$I$8)+H21,2) -> 13.8 | J21: =ROUND(G21*I21,2) -> 845.39
B22: 2.2 | C22: 88497 | D22: SINAPI | E22: EMASSAMENTO COM MASSA LÁTEX, APLICAÇÃO EM PAREDE, DUAS DEMÃOS, LIXAMENTO MANUAL. | F22: M2 | G22: 61.26 | H22: 16.72 | I22: =ROUND((H22*$I$8)+H22,2) -> 20.9 | J22: =ROUND(G22*I22,2) -> 1280.33
B23: 2.3 | C23: 87267 | D23: SINAPI | E23: REVESTIMENTO CERÂMICO PARA PAREDES INTERNAS COM PLACAS TIPO ESMALTADA EXTRA DE DIMENSÕES 20X20 CM APLICADAS A MEIA ALTURA DAS PAREDES. (banheiros, lavatório e balcão) | F23: M2 | G23: 48 | H23: 59.87 | I23: =ROUND((H23*$I$8)+H23,2) -> 74.84 | J23: =ROUND(G23*I23,2) -> 3592.32
B24: 2.4 | C24: 96113 | D24: SINAPI | E24: FORRO EM PLACAS DE GESSO, PARA AMBIENTES COMERCIAIS. AF_08/2023_PS | F24: M2 | G24: 68.13 | H24: 47.53 | I24: =ROUND((H24*$I$8)+H24,2) -> 59.41 | J24: =ROUND(G24*I24,2) -> 4047.6
B25: 2.5 | C25: 88496 | D25: SINAPI | E25: EMASSAMENTO COM MASSA LÁTEX, APLICAÇÃO EM TETO, DUAS DEMÃOS, LIXAMENTO MANUAL. AF_04/2023 | F25: M2 | G25: 68.13 | H25: 28.75 | I25: =ROUND((H25*$I$8)+H25,2) -> 35.94 | J25: =ROUND(G25*I25,2) -> 2448.59
B26: 2.6 | C26: 88488 | D26: SINAPI | E26: PINTURA LÁTEX ACRÍLICA PREMIUM, APLICAÇÃO MANUAL EM TETO, DUAS DEMÃOS. AF_04/2023 | F26: M2 | G26: 68.13 | H26: 13.06 | I26: =ROUND((H26*$I$8)+H26,2) -> 16.33 | J26: =ROUND(G26*I26,2) -> 1112.56
B27: 2.7 | C27: 89714 | D27: SINAPI | E27: TUBO PVC, SERIE NORMAL, ESGOTO PREDIAL, DN 100 MM, FORNECIDO E INSTALADO EM RAMAL DE DESCARGA OU RAMAL DE ESGOTO SANITÁRIO. AF_08/2022 | F27: M | G27: 22.37 | H27: 35.71 | I27: =ROUND((H27*$I$8)+H27,2) -> 44.64 | J27: =ROUND(G27*I27,2) -> 998.6
B28: 2.8 | C28: 89356 | D28: SINAPI | E28: TUBO, PVC, SOLDÁVEL, DN 25MM, INSTALADO EM RAMAL OU SUB-RAMAL DE ÁGUA - FORNECIMENTO E INSTALAÇÃO. AF_06/2022 | F28: M | G28: 22.37 | H28: 20.97 | I28: =ROUND((H28*$I$8)+H28,2) -> 26.21 | J28: =ROUND(G28*I28,2) -> 586.32
B29: 2.9 | C29: 91945 | D29: SINAPI | E29: SUPORTE PARAFUSADO COM PLACA DE ENCAIXE 4" X 2" ALTO (2,00 M DO PISO) PARA PONTO ELÉTRICO - FORNECIMENTO E INSTALAÇÃO. AF_03/2023 | F29: PT | G29: 25 | H29: 12.64 | I29: =ROUND((H29*$I$8)+H29,2) -> 15.8 | J29: =ROUND(G29*I29,2) -> 395
B30: 2.10 | C30: 39500 | D30: SINAPI | E30: KIT PORTA PRONTA DE MADEIRA, FOLHA PESADA (NBR 15930) DE 800 X 2100 MM, DE 40 MM A 45 MM DE ESPESSURA, NUCLEO SOLIDO, CAPA LISA EM HDF, ACABAMENTO MELAMINICO BRANCO (INCLUI MARCO, ALIZARES, DOBRADICAS E FECHADURA EXTERNA) | F30: UN. | G30: 2 | H30: 847.2 | I30: =ROUND((H30*$I$8)+H30,2) -> 1059 | J30: =ROUND(G30*I30,2) -> 2118
J31: =SUM(J21:J30) -> 17424.71
B32: 3 | E32: TERRAÇO BISTRÔ
B33: 3.1 | C33: 88489 | D33: SINAPI | E33: PINTURA LÁTEX ACRÍLICA PREMIUM, APLICAÇÃO MANUAL EM PAREDES, DUAS DEMÃOS. | F33: M2 | G33: 82.88 | H33: 11.04 | I33: =ROUND((H33*$I$8)+H33,2) -> 13.8 | J33: =ROUND(G33*I33,2) -> 1143.74
B34: 3.2 | C34: 88497 | D34: SINAPI | E34: EMASSAMENTO COM MASSA LÁTEX, APLICAÇÃO EM PAREDE, DUAS DEMÃOS, LIXAMENTO MANUAL. | F34: M2 | G34: 82.88 | H34: 16.72 | I34: =ROUND((H34*$I$8)+H34,2) -> 20.9 | J34: =ROUND(G34*I34,2) -> 1732.19
B35: 3.3 | C35: 96112A | D35: SINAPI | E35: FORRO DE MADEIRA CEDRINHO OU EQUIVALENTE DA REGIAO, ENCAIXE MACHO/FEMEA COM FRISO, *10 X 1* CM (COLOCACAO) | F35: M2 | G35: 60 | H35: 224.93 | I35: =ROUND((H35*$I$8)+H35,2) -> 281.16 | J35: =ROUND(G35*I35,2) -> 16869.6
B36: 3.4 | C36: 87267 | D36: SINAPI | E36: REVESTIMENTO CERÂMICO PARA PAREDES INTERNAS COM PLACAS TIPO ESMALTADA EXTRA DE DIMENSÕES 20X20 CM APLICADAS A MEIA ALTURA DAS PAREDES. Balcão | F36: M2 | G36: 10 | H36: 59.87 | I36: =ROUND((H36*$I$8)+H36,2) -> 74.84 | J36: =ROUND(G36*I36,2) -> 748.4
B37: 3.5 | C37: 89714 | D37: SINAPI | E37: TUBO PVC, SERIE NORMAL, ESGOTO PREDIAL, DN 100 MM, FORNECIDO E INSTALADO EM RAMAL DE DESCARGA OU RAMAL DE ESGOTO SANITÁRIO. AF_08/2022 | F37: M | G37: 12 | H37: 35.71 | I37: =ROUND((H37*$I$8)+H37,2) -> 44.64 | J37: =ROUND(G37*I37,2) -> 535.68
B38: 3.6 | C38: 89356 | D38: SINAPI | E38: TUBO, PVC, SOLDÁVEL, DN 25MM, INSTALADO EM RAMAL OU SUB-RAMAL DE ÁGUA - FORNECIMENTO E INSTALAÇÃO. AF_06/2022 | F38: M | G38: 12 | H38: 20.97 | I38: =ROUND((H38*$I$8)+H38,2) -> 26.21 | J38: =ROUND(G38*I38,2) -> 314.52
B39: 3.7 | C39: 91945 | D39: SINAPI | E39: SUPORTE PARAFUSADO COM PLACA DE ENCAIXE 4" X 2" ALTO (2,00 M DO PISO) PARA PONTO ELÉTRICO - FORNECIMENTO E INSTALAÇÃO. AF_03/2023 | F39: PT | G39: 10 | H39: 12.64 | I39: =ROUND((H39*$I$8)+H39,2) -> 15.8 | J39: =ROUND(G39*I39,2) -> 158
B40: 3.8 | C40: 34640 | D40: SINAPI | E40: CAIXA D'AGUA / RESERVATORIO EM POLIETILENO, 2000 LITROS, COM TAMPA | F40: UN | G40: 1 | H40: 1191.18 | I40: =ROUND((H40*$I$8)+H40,2) -> 1488.98 | J40: =ROUND(G40*I40,2) -> 1488.98
B41: 3.9 | C41: 94796 | D41: SINAPI | E41: TORNEIRA DE BOIA PARA CAIXA D'ÁGUA, ROSCÁVEL, 3/4" - FORNECIMENTO E INSTALAÇÃO. AF_08/2021 | F41: UN | G41: 1 | H41: 36.81 | I41: =ROUND((H41*$I$8)+H41,2) -> 46.01 | J41: =ROUND(G41*I41,2) -> 46.01
B42: 3.10 | C42: 103324 | D42: SINAPI | E42: ALVENARIA DE VEDAÇÃO DE BLOCOS CERÂMICOS FURADOS NA VERTICAL DE 14X19X39 CM (ESPESSURA 14 CM) E ARGAMASSA DE ASSENTAMENTO COM PREPARO EM BETONEIRA. (alvenaria shaft, fechamento cx d'água) | F42: M2 | G42: 30 | H42: 72.4 | I42: =ROUND((H42*$I$8)+H42,2) -> 90.5 | J42: =ROUND(G42*I42,2) -> 2715
B43: 3.11 | C43: 87893 | D43: SINAPI | E43: CHAPISCO APLICADO EM ALVENARIA (SEM PRESENÇA DE VÃOS) E ESTRUTURAS DE CONCRETO DE FACHADA, COM COLHER DE PEDREIRO. ARGAMASSA TRAÇO 1:3 COM PREPARO MANUAL. AF_10/2022 | F43: M2 | G43: 60 | H43: 6.44 | I43: =ROUND((H43*$I$8)+H43,2) -> 8.05 | J43: =ROUND(G43*I43,2) -> 483
B44: 3.12 | C44: 87794 | D44: SINAPI | E44: EMBOÇO OU MASSA ÚNICA EM ARGAMASSA TRAÇO 1:2:8, PREPARO MANUAL, APLICADA MANUALMENTE EM PANOS CEGOS DE FACHADA (SEM PRESENÇA DE VÃOS), ESPESSURA DE 25 MM. AF_09/2022 | F44: M2 | G44: 60 | H44: 38.65 | I44: =ROUND((H44*$I$8)+H44,2) -> 48.31 | J44: =ROUND(G44*I44,2) -> 2898.6
...

Sheet Cronograma
B2: CRONOGRAMA FÍSICO FINANCEIRO
B4: ='Planilha Orçamentária'!B6:E6 -> OBRA: REFORMA DA PRAÇA PE. FRANCISCO MIRA - ETAPA 04
B6: ITEM | C6: DESCRIÇÃO DOS SERVIÇOS | D6: VALOR (R$) | E6: % ITEM | F6: 1 | G6: 2 | H6: 3 | I6: 4 | J6: 5 | K6: 6 | L6: 7 | M6: 8 | N6: 9 | O6: 10
B8: ='Planilha Orçamentária'!B10 -> 1 | C8: ='Planilha Orçamentária'!E10 -> SUBSOLO BISTRÔ | D8: ='Planilha Orçamentária'!J19 -> 8529.3 | E8: =D8/D26 -> 0.075223984 | F8: 0.65 | G8: 0.35
F9: =F8*D8 -> 5544.045 | G9: =G8*D8 -> 2985.255
B11: ='Planilha Orçamentária'!B20 -> 2 | C11: ='Planilha Orçamentária'!E20 -> TÉRREO BISTRÔ | D11: ='Planilha Orçamentária'!J31 -> 17424.71 | E11: =D11/D26 -> 0.15367687 | F11: 0.5 | G11: 0.5
F12: =F11*D11 -> 8712.355 | G12: =G11*D11 -> 8712.355
B14: ='Planilha Orçamentária'!B32 -> 3 | C14: ='Planilha Orçamentária'!E32 -> TERRAÇO BISTRÔ | D14: ='Planilha Orçamentária'!J45 -> 29133.72 | E14: =D14/D26 -> 0.25694424 | G14: 0.4 | H14: 0.6
G15: =G14*D14 -> 11653.488 | H15: =SUM(H14*D14) -> 17480.232
B17: ='Planilha Orçamentária'!B46 -> 4 | C17: ='Planilha Orçamentária'!E46 -> AUDITÓRIO E SALAS | D17: ='Planilha Orçamentária'!J52 -> 26317.44 | E17: =D17/D26 -> 0.23210611 | G17: 0.5 | H17: 0.5
G18: =SUM(G17*D17) -> 13158.72 | H18: =SUM(H17*D17) -> 13158.72
B20: ='Planilha Orçamentária'!B53 -> 5 | C20: ='Planilha Orçamentária'!E53 -> BANHEIROS E COZINHA | D20: ='Planilha Orçamentária'!J57 -> 24577.82 | E20: =D20/D26 -> 0.21676357 | F20: 0.65 | G20: 0.35
F21: =F20*D20 -> 15975.583 | G21: =G20*D20 -> 8602.237
B23: ='Planilha Orçamentária'!B58 -> 6 | C23: ='Planilha Orçamentária'!E58 -> DML | D23: ='Planilha Orçamentária'!J65 -> 7402.39 | E23: =D23/D26 -> 0.065285225 | F23: 1
F24: =F23*D23 -> 7402.39
B26: VALORES TOTAIS | D26: =SUM(D8,D11,D14,D17,D20,D23) -> 113385.38 | E26: =SUM(E8,E11,E14,E17,E20,E23) -> 1
D27: =SUM(F27:J27) -> 113385.38 | F27: =SUM(F9,F12,F15,F18,F21,F24) -> 37634.373 | G27: =SUM(G9,G12,G15,G18,G21,G24) -> 45112.055 | H27: =SUM(H9,H12,H15,H18,H21,H24) -> 30638.952 | I27: =SUM(I9,I12,I15,I18,I21,I24) -> 0 | J27: =SUM(J9,J12,J15,J18,J21,J24) -> 0 | K27: =SUM(K9,K12,K15,K18,K21,K24) -> 0 | L27: =SUM(L9,L12,L15,L18,L21,L24) -> 0 | M27: =SUM(M9,M12,M15,M18,M21,M24) -> 0 | N27: =SUM(N9,N12,N15,N18,N21,N24) -> 0
